BEGIN:VCALENDAR
VERSION:2.0
PRODID:-// - ECPv6.15.20//NONSGML v1.0//EN
CALSCALE:GREGORIAN
METHOD:PUBLISH
X-ORIGINAL-URL:https://ccthouston.org
X-WR-CALDESC:Events for 
REFRESH-INTERVAL;VALUE=DURATION:PT1H
X-Robots-Tag:noindex
X-PUBLISHED-TTL:PT1H
BEGIN:VTIMEZONE
TZID:UTC
BEGIN:STANDARD
TZOFFSETFROM:+0000
TZOFFSETTO:+0000
TZNAME:UTC
DTSTART:20250101T000000
END:STANDARD
END:VTIMEZONE
BEGIN:VEVENT
DTSTART;TZID=UTC:20260205T083000
DTEND;TZID=UTC:20260205T100000
DTSTAMP:20260424T001544
CREATED:20251218T230714Z
LAST-MODIFIED:20251220T000657Z
UID:7474-1770280200-1770285600@ccthouston.org
SUMMARY:Citizenship Workshop\, February 5th\, 2026
DESCRIPTION:Register
URL:https://ccthouston.org/event/7436-2/
ORGANIZER;CN="Center for Career Transformation":MAILTO:info@ccthouston.org
END:VEVENT
BEGIN:VEVENT
DTSTART;TZID=UTC:20260313T090000
DTEND;TZID=UTC:20260313T120000
DTSTAMP:20260424T001544
CREATED:20251220T001026Z
LAST-MODIFIED:20251220T001126Z
UID:7485-1773392400-1773403200@ccthouston.org
SUMMARY:Citizenship Workshop\, March 13th\, 2026
DESCRIPTION:  \nRegister
URL:https://ccthouston.org/event/7436-2-2/
ORGANIZER;CN="Center for Career Transformation":MAILTO:info@ccthouston.org
END:VEVENT
END:VCALENDAR