BEGIN:VCALENDAR
VERSION:2.0
PRODID:-// - ECPv6.15.20//NONSGML v1.0//EN
CALSCALE:GREGORIAN
METHOD:PUBLISH
X-ORIGINAL-URL:https://ccthouston.org
X-WR-CALDESC:Events for 
REFRESH-INTERVAL;VALUE=DURATION:PT1H
X-Robots-Tag:noindex
X-PUBLISHED-TTL:PT1H
BEGIN:VTIMEZONE
TZID:UTC
BEGIN:STANDARD
TZOFFSETFROM:+0000
TZOFFSETTO:+0000
TZNAME:UTC
DTSTART:20240101T000000
END:STANDARD
END:VTIMEZONE
BEGIN:VEVENT
DTSTART;TZID=UTC:20251204T130000
DTEND;TZID=UTC:20251204T150000
DTSTAMP:20260423T223051
CREATED:20251121T233350Z
LAST-MODIFIED:20251121T235431Z
UID:7455-1764853200-1764860400@ccthouston.org
SUMMARY:Citizenship Workshop\, December 4th\, 2025
DESCRIPTION:Register
URL:https://ccthouston.org/event/citizenship-workshop-december-4th-2025/
ORGANIZER;CN="Center for Career Transformation":MAILTO:info@ccthouston.org
END:VEVENT
END:VCALENDAR